BEGIN:VCALENDAR
VERSION:2.0
PRODID:-//SPÖ Frauen Oberösterreich - ECPv6.15.20//NONSGML v1.0//EN
CALSCALE:GREGORIAN
METHOD:PUBLISH
X-ORIGINAL-URL:https://frauen.spooe.at
X-WR-CALDESC:Veranstaltungen für SPÖ Frauen Oberösterreich
REFRESH-INTERVAL;VALUE=DURATION:PT1H
X-Robots-Tag:noindex
X-PUBLISHED-TTL:PT1H
BEGIN:VTIMEZONE
TZID:Europe/Vienna
BEGIN:DAYLIGHT
TZOFFSETFROM:+0100
TZOFFSETTO:+0200
TZNAME:CEST
DTSTART:20240331T010000
END:DAYLIGHT
BEGIN:STANDARD
TZOFFSETFROM:+0200
TZOFFSETTO:+0100
TZNAME:CET
DTSTART:20241027T010000
END:STANDARD
BEGIN:DAYLIGHT
TZOFFSETFROM:+0100
TZOFFSETTO:+0200
TZNAME:CEST
DTSTART:20250330T010000
END:DAYLIGHT
BEGIN:STANDARD
TZOFFSETFROM:+0200
TZOFFSETTO:+0100
TZNAME:CET
DTSTART:20251026T010000
END:STANDARD
BEGIN:DAYLIGHT
TZOFFSETFROM:+0100
TZOFFSETTO:+0200
TZNAME:CEST
DTSTART:20260329T010000
END:DAYLIGHT
BEGIN:STANDARD
TZOFFSETFROM:+0200
TZOFFSETTO:+0100
TZNAME:CET
DTSTART:20261025T010000
END:STANDARD
END:VTIMEZONE
BEGIN:VEVENT
DTSTART;VALUE=DATE:20250808
DTEND;VALUE=DATE:20250809
DTSTAMP:20260424T055720
CREATED:20250725T074742Z
LAST-MODIFIED:20250725T074857Z
UID:3672-1754611200-1754697599@frauen.spooe.at
SUMMARY:Sommertourtag mit Eva-Maria Holzleitner
DESCRIPTION:SP-Bundesfrauenvorsitzende BMin Eva-Maria Holzleitner hat am 8. August einen Sommertourtag in Oberösterreich. \nUm 9:30 Uhr gibt es ein gemeinsames Frühstückspicknick auf der Donaulände auf der Wiese zwischen Lentos und Brucknerhaus. Wir würden uns freuen\, euch dort zu treffen. \n8. August 2025 von 9:30 bis 11:00 Uhr \nDaran anschließend: \nGemeinsam mit unserer SP-Bundesfrauenvorsitzenden BMin Eva-Maria Holzleitner werden wir einen Walk durch Linz mit und zu alleinerziehenden arbeitslosen Frauen machen. \n8. August 2025 von 11:30 bis 13:30 Uhr \nOrganisiert wird dieser Walk durch die Diözese Linz. \nAnmeldungen bitte an katja.haller@diözese-linz.at bis Montag\, den 4. August 2025 (Plätze sind begrenzt). \n  \nWir freuen uns auf euch
URL:https://frauen.spooe.at/termin/sommertourtag-mit-eva-maria-holzleitner/
LOCATION:Linz
ATTACH;FMTTYPE=image/jpeg:https://frauen.spooe.at/wp-content/uploads/sites/201/2018/03/Antje_Wolm0865-scaled-e1753429718917.jpg
ORGANIZER;CN="SP%C3%96 Frauen Ober%C3%B6sterreich":MAILTO:frauen-ooe@spoe.at
END:VEVENT
END:VCALENDAR